BEGIN:VCALENDAR
VERSION:2.0
PRODID:-//Die Zeitschrift Der Straße - ECPv6.15.20//NONSGML v1.0//EN
CALSCALE:GREGORIAN
METHOD:PUBLISH
X-WR-CALNAME:Die Zeitschrift Der Straße
X-ORIGINAL-URL:https://zeitschrift-der-strasse.de
X-WR-CALDESC:Veranstaltungen für Die Zeitschrift Der Straße
REFRESH-INTERVAL;VALUE=DURATION:PT1H
X-Robots-Tag:noindex
X-PUBLISHED-TTL:PT1H
BEGIN:VTIMEZONE
TZID:Europe/Berlin
BEGIN:DAYLIGHT
TZOFFSETFROM:+0100
TZOFFSETTO:+0200
TZNAME:CEST
DTSTART:20250330T010000
END:DAYLIGHT
BEGIN:STANDARD
TZOFFSETFROM:+0200
TZOFFSETTO:+0100
TZNAME:CET
DTSTART:20251026T010000
END:STANDARD
BEGIN:DAYLIGHT
TZOFFSETFROM:+0100
TZOFFSETTO:+0200
TZNAME:CEST
DTSTART:20260329T010000
END:DAYLIGHT
BEGIN:STANDARD
TZOFFSETFROM:+0200
TZOFFSETTO:+0100
TZNAME:CET
DTSTART:20261025T010000
END:STANDARD
BEGIN:DAYLIGHT
TZOFFSETFROM:+0100
TZOFFSETTO:+0200
TZNAME:CEST
DTSTART:20270328T010000
END:DAYLIGHT
BEGIN:STANDARD
TZOFFSETFROM:+0200
TZOFFSETTO:+0100
TZNAME:CET
DTSTART:20271031T010000
END:STANDARD
END:VTIMEZONE
BEGIN:VEVENT
DTSTART;TZID=Europe/Berlin:20260228T110000
DTEND;TZID=Europe/Berlin:20260228T133000
DTSTAMP:20260420T183803
CREATED:20251013T093222Z
LAST-MODIFIED:20260209T094506Z
UID:14439-1772276400-1772285400@zeitschrift-der-strasse.de
SUMMARY:Perspektivwechsel für Einzelpersonen (02/26) *15Jahre*
DESCRIPTION:Wir wollen mit euch 15 Jahre die Zeitschrift der Straße feiern\, daher veranstalten wir vier Perspektivwechsel Touren über das Jahr 2026 für interessierte Einzelpersonen. Die Anmeldung findet über die Reservierung kostenlos via dem Formular (s. unten) statt\, wir melden uns vor Beginn mit einer Info-Mail an euch zum Tourverlauf. \nDie Teilnahme ist kostenlos.  Wir freuen uns über Spenden.  \nInfos über das Team und die Tour \n15-Jahre-Tour #1\nSamstag\, 28. Februar 2026\n11–13.30 Uhr \nReservierung ab 26. Januar möglich\n25 Personen
URL:https://zeitschrift-der-strasse.de/event/15-jahre-zds-ppw-02-2026/
LOCATION:Anti-Kolonialdenkmal (Elefant) im Nelson Mandela Park\, Gustav-Deetjen-Allee\, Bremen\, 28209\, Germany
CATEGORIES:15 Jahre,soziale Stadtführung
ATTACH;FMTTYPE=image/jpeg:https://zeitschrift-der-strasse.de/wp-content/uploads/2026/02/15jahreppw_v2-200.jpg
END:VEVENT
END:VCALENDAR